BEGIN:VCALENDAR
VERSION:2.0
PRODID:-// - ECPv6.15.20//NONSGML v1.0//EN
CALSCALE:GREGORIAN
METHOD:PUBLISH
X-ORIGINAL-URL:https://beateseemann.com
X-WR-CALDESC:Veranstaltungen für 
REFRESH-INTERVAL;VALUE=DURATION:PT1H
X-Robots-Tag:noindex
X-PUBLISHED-TTL:PT1H
BEGIN:VTIMEZONE
TZID:Europe/Berlin
BEGIN:DAYLIGHT
TZOFFSETFROM:+0100
TZOFFSETTO:+0200
TZNAME:CEST
DTSTART:20250330T010000
END:DAYLIGHT
BEGIN:STANDARD
TZOFFSETFROM:+0200
TZOFFSETTO:+0100
TZNAME:CET
DTSTART:20251026T010000
END:STANDARD
BEGIN:DAYLIGHT
TZOFFSETFROM:+0100
TZOFFSETTO:+0200
TZNAME:CEST
DTSTART:20260329T010000
END:DAYLIGHT
BEGIN:STANDARD
TZOFFSETFROM:+0200
TZOFFSETTO:+0100
TZNAME:CET
DTSTART:20261025T010000
END:STANDARD
BEGIN:DAYLIGHT
TZOFFSETFROM:+0100
TZOFFSETTO:+0200
TZNAME:CEST
DTSTART:20270328T010000
END:DAYLIGHT
BEGIN:STANDARD
TZOFFSETFROM:+0200
TZOFFSETTO:+0100
TZNAME:CET
DTSTART:20271031T010000
END:STANDARD
END:VTIMEZONE
BEGIN:VEVENT
DTSTART;TZID=Europe/Berlin:20260807T190000
DTEND;TZID=Europe/Berlin:20260807T200000
DTSTAMP:20260421T113515
CREATED:20230804T095722Z
LAST-MODIFIED:20260207T163037Z
UID:3203-1786129200-1786132800@beateseemann.com
SUMMARY:ONLINE ZOOM - LÖWENTOR 07.08.2026
DESCRIPTION:Reise mit mir durch DEIN Löwentor! \nJedes Jahr vom 26.Juli bis 12. August öffnet sich das Tor des Löwen. Der Höhepunkt findet immer am 8.August statt. Diese Zeit wirkt sehr intensiv in unserem Körper\, Geist & Seele System. Am 8.August öffnen sich dann wieder neue Möglichkeiten\, Veränderungen unser Leben neu zu gestalten. \nDie Energie unterstützt uns in unserem Bewusstseinsprozess bzw. in unserer Bewusstseinserweiterung. ALTES geht und das NEUE ist da! So kommen wir in einem geschützten Raum (ZOOM-Meeting) zusammen. \nSIRIUS wird den Raum eröffnen und uns mit einem Energie/Heilstrom und der Botschaft begleiten. Impulse werden somit gesetzt\, die Umsetzung steht bevor und Gelassenheit kann einkehren. \n07.08.2026\n19 Uhr – 20 Uhr\n28\,- EUR \nANMELDUNG: https://beateseemann.com/shop/zoom-termine/loewentor-reise-08-08-2024-zoom-live/
URL:https://beateseemann.com/event/online-zoom-loewentor-08-08-2023/
LOCATION:ZOOM
ATTACH;FMTTYPE=image/jpeg:https://beateseemann.com/wp-content/uploads/2023/08/Loewentor-ohne-Termin.jpg
END:VEVENT
END:VCALENDAR