BEGIN:VCALENDAR
VERSION:2.0
PRODID:-// - ECPv6.15.20//NONSGML v1.0//EN
CALSCALE:GREGORIAN
METHOD:PUBLISH
X-ORIGINAL-URL:https://beateseemann.com
X-WR-CALDESC:Veranstaltungen für 
REFRESH-INTERVAL;VALUE=DURATION:PT1H
X-Robots-Tag:noindex
X-PUBLISHED-TTL:PT1H
BEGIN:VTIMEZONE
TZID:Europe/Berlin
BEGIN:DAYLIGHT
TZOFFSETFROM:+0100
TZOFFSETTO:+0200
TZNAME:CEST
DTSTART:20240331T010000
END:DAYLIGHT
BEGIN:STANDARD
TZOFFSETFROM:+0200
TZOFFSETTO:+0100
TZNAME:CET
DTSTART:20241027T010000
END:STANDARD
BEGIN:DAYLIGHT
TZOFFSETFROM:+0100
TZOFFSETTO:+0200
TZNAME:CEST
DTSTART:20250330T010000
END:DAYLIGHT
BEGIN:STANDARD
TZOFFSETFROM:+0200
TZOFFSETTO:+0100
TZNAME:CET
DTSTART:20251026T010000
END:STANDARD
BEGIN:DAYLIGHT
TZOFFSETFROM:+0100
TZOFFSETTO:+0200
TZNAME:CEST
DTSTART:20260329T010000
END:DAYLIGHT
BEGIN:STANDARD
TZOFFSETFROM:+0200
TZOFFSETTO:+0100
TZNAME:CET
DTSTART:20261025T010000
END:STANDARD
END:VTIMEZONE
BEGIN:VEVENT
DTSTART;TZID=Europe/Berlin:20251120T100000
DTEND;TZID=Europe/Berlin:20251123T170000
DTSTAMP:20260421T185747
CREATED:20250116T142805Z
LAST-MODIFIED:20250702T093006Z
UID:8706-1763632800-1763917200@beateseemann.com
SUMMARY:SOULSOMA®-Ausbildung The GRACE of LIGHT® MODUL 1 20.11.-23.11.2025 -  IM LICHT Zürich
DESCRIPTION:SOULSOMA®-Modul 1 \nThe GRACE of LIGHT®– Medium SEIN \nVerbinde Dich mit der GNADE Deines LICHTES und erinnere Dich an Deine Gaben. \nBeate Seemann nimmt Dich mit auf ihren Weg des MEDIUM SEINS. Sie begleitet Dich und führt Dich so\, wie sie selbst aus der geistigen Welt geführt und gelehrt wurde. Durch ihre hellsichtige Gabe ist es ihr möglich Dich so zu unterstützen\, wie es Deine Seele für Dich vorgesehen hat. Du bist und warst nie etwas anderes als ein Kanal für die geistigen Welten. Mit The GRACE of LIGHT® fällst Du in die Gnade Deines Lichtes. \nInhalt u.a.: \n-Seelenkanal aktivieren mit enlighten your soul® \n-Seelensprache (Soulchanneling) \n-Seelenmeditationen \n-Automatisches schreiben für die geistige Welt \n-Lichtsprachen erkennen und übersetzen \n-Engelbotschafter SEIN \n-Energien spüren & sehen \n-Arbeiten mit der Marienkraft (Kreis der Marien) \nDieses umfangreiche viertägige Ausbildungsprogramm zeichnet sich besonders durch die praxisnahen Übungen aus. Zur weiteren Vertiefung\, Erweiterung und zum Austausch sind weitere 2 ZOOM-Calls nach der Präsenzausbildung Inhalt von The GRACE of LIGHT® \nEs sind keine Vorkenntnisse erforderlich. \nTäglich von 10 Uhr bis 17 Uhr |Normalpreis: 1.180 CHF \nFrühbucher bis 14.September 980 CHF \nHier kannst Du Dich anmelden:https://events.imlicht.ch/
URL:https://beateseemann.com/event/soulsoma-ausbildung-20-11-23-11-2025-modul-1-im-licht-zuerich/
LOCATION:IM LICHT Seminarzentrum ZÜRICH\, Schweiz
ATTACH;FMTTYPE=image/jpeg:https://beateseemann.com/wp-content/uploads/2022/03/beate-seemann-soulsoma-heal-your-life_full_1638796542.jpg
END:VEVENT
END:VCALENDAR